BEGIN:VCALENDAR
VERSION:2.0
PRODID:-//Spirit Lake Community Church - ECPv6.11.0.1//NONSGML v1.0//EN
CALSCALE:GREGORIAN
METHOD:PUBLISH
X-WR-CALNAME:Spirit Lake Community Church
X-ORIGINAL-URL:https://myslcc.org
X-WR-CALDESC:Events for Spirit Lake Community Church
REFRESH-INTERVAL;VALUE=DURATION:PT1H
X-Robots-Tag:noindex
X-PUBLISHED-TTL:PT1H
BEGIN:VTIMEZONE
TZID:UTC
BEGIN:STANDARD
TZOFFSETFROM:+0000
TZOFFSETTO:+0000
TZNAME:UTC
DTSTART:20270101T000000
END:STANDARD
END:VTIMEZONE
BEGIN:VEVENT
DTSTART;TZID=UTC:20271107T091500
DTEND;TZID=UTC:20271107T095000
DTSTAMP:20260422T204406
CREATED:20250324T195157Z
LAST-MODIFIED:20250324T195157Z
UID:10000137-1825578900-1825581000@myslcc.org
SUMMARY:Coffee and Snacks Fellowship
DESCRIPTION:
URL:https://myslcc.org/event/coffee-and-snacks-fellowship/2027-11-07/
END:VEVENT
BEGIN:VEVENT
DTSTART;TZID=UTC:20271114T091500
DTEND;TZID=UTC:20271114T095000
DTSTAMP:20260422T204406
CREATED:20250324T195157Z
LAST-MODIFIED:20250324T195157Z
UID:10000138-1826183700-1826185800@myslcc.org
SUMMARY:Coffee and Snacks Fellowship
DESCRIPTION:
URL:https://myslcc.org/event/coffee-and-snacks-fellowship/2027-11-14/
END:VEVENT
BEGIN:VEVENT
DTSTART;TZID=UTC:20271121T091500
DTEND;TZID=UTC:20271121T095000
DTSTAMP:20260422T204406
CREATED:20250324T195157Z
LAST-MODIFIED:20250324T195157Z
UID:10000139-1826788500-1826790600@myslcc.org
SUMMARY:Coffee and Snacks Fellowship
DESCRIPTION:
URL:https://myslcc.org/event/coffee-and-snacks-fellowship/2027-11-21/
END:VEVENT
BEGIN:VEVENT
DTSTART;TZID=UTC:20271128T091500
DTEND;TZID=UTC:20271128T095000
DTSTAMP:20260422T204406
CREATED:20250324T195157Z
LAST-MODIFIED:20250324T195157Z
UID:10000140-1827393300-1827395400@myslcc.org
SUMMARY:Coffee and Snacks Fellowship
DESCRIPTION:
URL:https://myslcc.org/event/coffee-and-snacks-fellowship/2027-11-28/
END:VEVENT
BEGIN:VEVENT
DTSTART;TZID=UTC:20271205T091500
DTEND;TZID=UTC:20271205T095000
DTSTAMP:20260422T204406
CREATED:20250324T195157Z
LAST-MODIFIED:20250324T195157Z
UID:10000141-1827998100-1828000200@myslcc.org
SUMMARY:Coffee and Snacks Fellowship
DESCRIPTION:
URL:https://myslcc.org/event/coffee-and-snacks-fellowship/2027-12-05/
END:VEVENT
BEGIN:VEVENT
DTSTART;TZID=UTC:20271212T091500
DTEND;TZID=UTC:20271212T095000
DTSTAMP:20260422T204406
CREATED:20250324T195157Z
LAST-MODIFIED:20250324T195157Z
UID:10000142-1828602900-1828605000@myslcc.org
SUMMARY:Coffee and Snacks Fellowship
DESCRIPTION:
URL:https://myslcc.org/event/coffee-and-snacks-fellowship/2027-12-12/
END:VEVENT
BEGIN:VEVENT
DTSTART;TZID=UTC:20271219T091500
DTEND;TZID=UTC:20271219T095000
DTSTAMP:20260422T204406
CREATED:20250324T195157Z
LAST-MODIFIED:20250324T195157Z
UID:10000143-1829207700-1829209800@myslcc.org
SUMMARY:Coffee and Snacks Fellowship
DESCRIPTION:
URL:https://myslcc.org/event/coffee-and-snacks-fellowship/2027-12-19/
END:VEVENT
BEGIN:VEVENT
DTSTART;TZID=UTC:20271226T091500
DTEND;TZID=UTC:20271226T095000
DTSTAMP:20260422T204406
CREATED:20250324T195157Z
LAST-MODIFIED:20250324T195157Z
UID:10000144-1829812500-1829814600@myslcc.org
SUMMARY:Coffee and Snacks Fellowship
DESCRIPTION:
URL:https://myslcc.org/event/coffee-and-snacks-fellowship/2027-12-26/
END:VEVENT
BEGIN:VEVENT
DTSTART;TZID=UTC:20280102T091500
DTEND;TZID=UTC:20280102T095000
DTSTAMP:20260422T204406
CREATED:20250324T195157Z
LAST-MODIFIED:20250324T195157Z
UID:10000145-1830417300-1830419400@myslcc.org
SUMMARY:Coffee and Snacks Fellowship
DESCRIPTION:
URL:https://myslcc.org/event/coffee-and-snacks-fellowship/2028-01-02/
END:VEVENT
BEGIN:VEVENT
DTSTART;TZID=UTC:20280109T091500
DTEND;TZID=UTC:20280109T095000
DTSTAMP:20260422T204406
CREATED:20250324T195157Z
LAST-MODIFIED:20250324T195157Z
UID:10000146-1831022100-1831024200@myslcc.org
SUMMARY:Coffee and Snacks Fellowship
DESCRIPTION:
URL:https://myslcc.org/event/coffee-and-snacks-fellowship/2028-01-09/
END:VEVENT
BEGIN:VEVENT
DTSTART;TZID=UTC:20280116T091500
DTEND;TZID=UTC:20280116T095000
DTSTAMP:20260422T204406
CREATED:20250324T195157Z
LAST-MODIFIED:20250324T195157Z
UID:10000147-1831626900-1831629000@myslcc.org
SUMMARY:Coffee and Snacks Fellowship
DESCRIPTION:
URL:https://myslcc.org/event/coffee-and-snacks-fellowship/2028-01-16/
END:VEVENT
BEGIN:VEVENT
DTSTART;TZID=UTC:20280123T091500
DTEND;TZID=UTC:20280123T095000
DTSTAMP:20260422T204406
CREATED:20250324T195157Z
LAST-MODIFIED:20250324T195157Z
UID:10000148-1832231700-1832233800@myslcc.org
SUMMARY:Coffee and Snacks Fellowship
DESCRIPTION:
URL:https://myslcc.org/event/coffee-and-snacks-fellowship/2028-01-23/
END:VEVENT
BEGIN:VEVENT
DTSTART;TZID=UTC:20280130T091500
DTEND;TZID=UTC:20280130T095000
DTSTAMP:20260422T204406
CREATED:20250324T195157Z
LAST-MODIFIED:20250324T195157Z
UID:10000149-1832836500-1832838600@myslcc.org
SUMMARY:Coffee and Snacks Fellowship
DESCRIPTION:
URL:https://myslcc.org/event/coffee-and-snacks-fellowship/2028-01-30/
END:VEVENT
BEGIN:VEVENT
DTSTART;TZID=UTC:20280206T091500
DTEND;TZID=UTC:20280206T095000
DTSTAMP:20260422T204406
CREATED:20250324T195157Z
LAST-MODIFIED:20250324T195157Z
UID:10000150-1833441300-1833443400@myslcc.org
SUMMARY:Coffee and Snacks Fellowship
DESCRIPTION:
URL:https://myslcc.org/event/coffee-and-snacks-fellowship/2028-02-06/
END:VEVENT
BEGIN:VEVENT
DTSTART;TZID=UTC:20280213T091500
DTEND;TZID=UTC:20280213T095000
DTSTAMP:20260422T204406
CREATED:20250324T195157Z
LAST-MODIFIED:20250324T195157Z
UID:10000151-1834046100-1834048200@myslcc.org
SUMMARY:Coffee and Snacks Fellowship
DESCRIPTION:
URL:https://myslcc.org/event/coffee-and-snacks-fellowship/2028-02-13/
END:VEVENT
BEGIN:VEVENT
DTSTART;TZID=UTC:20280220T091500
DTEND;TZID=UTC:20280220T095000
DTSTAMP:20260422T204406
CREATED:20250324T195157Z
LAST-MODIFIED:20250324T195157Z
UID:10000152-1834650900-1834653000@myslcc.org
SUMMARY:Coffee and Snacks Fellowship
DESCRIPTION:
URL:https://myslcc.org/event/coffee-and-snacks-fellowship/2028-02-20/
END:VEVENT
BEGIN:VEVENT
DTSTART;TZID=UTC:20280227T091500
DTEND;TZID=UTC:20280227T095000
DTSTAMP:20260422T204406
CREATED:20250324T195157Z
LAST-MODIFIED:20250324T195157Z
UID:10000153-1835255700-1835257800@myslcc.org
SUMMARY:Coffee and Snacks Fellowship
DESCRIPTION:
URL:https://myslcc.org/event/coffee-and-snacks-fellowship/2028-02-27/
END:VEVENT
BEGIN:VEVENT
DTSTART;TZID=UTC:20280305T091500
DTEND;TZID=UTC:20280305T095000
DTSTAMP:20260422T204406
CREATED:20250324T195157Z
LAST-MODIFIED:20250324T195157Z
UID:10000154-1835860500-1835862600@myslcc.org
SUMMARY:Coffee and Snacks Fellowship
DESCRIPTION:
URL:https://myslcc.org/event/coffee-and-snacks-fellowship/2028-03-05/
END:VEVENT
BEGIN:VEVENT
DTSTART;TZID=UTC:20280312T091500
DTEND;TZID=UTC:20280312T095000
DTSTAMP:20260422T204406
CREATED:20250324T195157Z
LAST-MODIFIED:20250324T195157Z
UID:10000155-1836465300-1836467400@myslcc.org
SUMMARY:Coffee and Snacks Fellowship
DESCRIPTION:
URL:https://myslcc.org/event/coffee-and-snacks-fellowship/2028-03-12/
END:VEVENT
BEGIN:VEVENT
DTSTART;TZID=UTC:20280319T091500
DTEND;TZID=UTC:20280319T095000
DTSTAMP:20260422T204406
CREATED:20250324T195157Z
LAST-MODIFIED:20250324T195157Z
UID:10000156-1837070100-1837072200@myslcc.org
SUMMARY:Coffee and Snacks Fellowship
DESCRIPTION:
URL:https://myslcc.org/event/coffee-and-snacks-fellowship/2028-03-19/
END:VEVENT
BEGIN:VEVENT
DTSTART;TZID=UTC:20280326T091500
DTEND;TZID=UTC:20280326T095000
DTSTAMP:20260422T204406
CREATED:20250324T195157Z
LAST-MODIFIED:20250324T195157Z
UID:10000157-1837674900-1837677000@myslcc.org
SUMMARY:Coffee and Snacks Fellowship
DESCRIPTION:
URL:https://myslcc.org/event/coffee-and-snacks-fellowship/2028-03-26/
END:VEVENT
BEGIN:VEVENT
DTSTART;TZID=UTC:20280402T091500
DTEND;TZID=UTC:20280402T095000
DTSTAMP:20260422T204406
CREATED:20250324T195157Z
LAST-MODIFIED:20250324T195157Z
UID:10000158-1838279700-1838281800@myslcc.org
SUMMARY:Coffee and Snacks Fellowship
DESCRIPTION:
URL:https://myslcc.org/event/coffee-and-snacks-fellowship/2028-04-02/
END:VEVENT
BEGIN:VEVENT
DTSTART;TZID=UTC:20280409T091500
DTEND;TZID=UTC:20280409T095000
DTSTAMP:20260422T204406
CREATED:20250324T195157Z
LAST-MODIFIED:20250324T195157Z
UID:10000159-1838884500-1838886600@myslcc.org
SUMMARY:Coffee and Snacks Fellowship
DESCRIPTION:
URL:https://myslcc.org/event/coffee-and-snacks-fellowship/2028-04-09/
END:VEVENT
BEGIN:VEVENT
DTSTART;TZID=UTC:20280416T091500
DTEND;TZID=UTC:20280416T095000
DTSTAMP:20260422T204406
CREATED:20250324T195157Z
LAST-MODIFIED:20250324T195157Z
UID:10000160-1839489300-1839491400@myslcc.org
SUMMARY:Coffee and Snacks Fellowship
DESCRIPTION:
URL:https://myslcc.org/event/coffee-and-snacks-fellowship/2028-04-16/
END:VEVENT
BEGIN:VEVENT
DTSTART;TZID=UTC:20280423T091500
DTEND;TZID=UTC:20280423T095000
DTSTAMP:20260422T204406
CREATED:20250324T195157Z
LAST-MODIFIED:20250324T195157Z
UID:10000161-1840094100-1840096200@myslcc.org
SUMMARY:Coffee and Snacks Fellowship
DESCRIPTION:
URL:https://myslcc.org/event/coffee-and-snacks-fellowship/2028-04-23/
END:VEVENT
BEGIN:VEVENT
DTSTART;TZID=UTC:20280430T091500
DTEND;TZID=UTC:20280430T095000
DTSTAMP:20260422T204406
CREATED:20250324T195157Z
LAST-MODIFIED:20250324T195157Z
UID:10000162-1840698900-1840701000@myslcc.org
SUMMARY:Coffee and Snacks Fellowship
DESCRIPTION:
URL:https://myslcc.org/event/coffee-and-snacks-fellowship/2028-04-30/
END:VEVENT
BEGIN:VEVENT
DTSTART;TZID=UTC:20280507T091500
DTEND;TZID=UTC:20280507T095000
DTSTAMP:20260422T204406
CREATED:20250324T195157Z
LAST-MODIFIED:20250324T195157Z
UID:10000163-1841303700-1841305800@myslcc.org
SUMMARY:Coffee and Snacks Fellowship
DESCRIPTION:
URL:https://myslcc.org/event/coffee-and-snacks-fellowship/2028-05-07/
END:VEVENT
BEGIN:VEVENT
DTSTART;TZID=UTC:20280514T091500
DTEND;TZID=UTC:20280514T095000
DTSTAMP:20260422T204406
CREATED:20250324T195157Z
LAST-MODIFIED:20250324T195157Z
UID:10000164-1841908500-1841910600@myslcc.org
SUMMARY:Coffee and Snacks Fellowship
DESCRIPTION:
URL:https://myslcc.org/event/coffee-and-snacks-fellowship/2028-05-14/
END:VEVENT
BEGIN:VEVENT
DTSTART;TZID=UTC:20280521T091500
DTEND;TZID=UTC:20280521T095000
DTSTAMP:20260422T204406
CREATED:20250324T195157Z
LAST-MODIFIED:20250324T195157Z
UID:10000165-1842513300-1842515400@myslcc.org
SUMMARY:Coffee and Snacks Fellowship
DESCRIPTION:
URL:https://myslcc.org/event/coffee-and-snacks-fellowship/2028-05-21/
END:VEVENT
BEGIN:VEVENT
DTSTART;TZID=UTC:20280528T091500
DTEND;TZID=UTC:20280528T095000
DTSTAMP:20260422T204406
CREATED:20250324T195157Z
LAST-MODIFIED:20250324T195157Z
UID:10000166-1843118100-1843120200@myslcc.org
SUMMARY:Coffee and Snacks Fellowship
DESCRIPTION:
URL:https://myslcc.org/event/coffee-and-snacks-fellowship/2028-05-28/
END:VEVENT
END:VCALENDAR