BEGIN:VCALENDAR
VERSION:2.0
PRODID:-//Spirit Lake Community Church - ECPv6.11.0.1//NONSGML v1.0//EN
CALSCALE:GREGORIAN
METHOD:PUBLISH
X-WR-CALNAME:Spirit Lake Community Church
X-ORIGINAL-URL:https://myslcc.org
X-WR-CALDESC:Events for Spirit Lake Community Church
REFRESH-INTERVAL;VALUE=DURATION:PT1H
X-Robots-Tag:noindex
X-PUBLISHED-TTL:PT1H
BEGIN:VTIMEZONE
TZID:UTC
BEGIN:STANDARD
TZOFFSETFROM:+0000
TZOFFSETTO:+0000
TZNAME:UTC
DTSTART:20270101T000000
END:STANDARD
END:VTIMEZONE
BEGIN:VEVENT
DTSTART;TZID=UTC:20270620T091500
DTEND;TZID=UTC:20270620T095000
DTSTAMP:20260422T190322
CREATED:20250324T195157Z
LAST-MODIFIED:20250324T195157Z
UID:10000117-1813482900-1813485000@myslcc.org
SUMMARY:Coffee and Snacks Fellowship
DESCRIPTION:
URL:https://myslcc.org/event/coffee-and-snacks-fellowship/2027-06-20/
END:VEVENT
BEGIN:VEVENT
DTSTART;TZID=UTC:20270627T091500
DTEND;TZID=UTC:20270627T095000
DTSTAMP:20260422T190322
CREATED:20250324T195157Z
LAST-MODIFIED:20250324T195157Z
UID:10000118-1814087700-1814089800@myslcc.org
SUMMARY:Coffee and Snacks Fellowship
DESCRIPTION:
URL:https://myslcc.org/event/coffee-and-snacks-fellowship/2027-06-27/
END:VEVENT
BEGIN:VEVENT
DTSTART;TZID=UTC:20270704T091500
DTEND;TZID=UTC:20270704T095000
DTSTAMP:20260422T190322
CREATED:20250324T195157Z
LAST-MODIFIED:20250324T195157Z
UID:10000119-1814692500-1814694600@myslcc.org
SUMMARY:Coffee and Snacks Fellowship
DESCRIPTION:
URL:https://myslcc.org/event/coffee-and-snacks-fellowship/2027-07-04/
END:VEVENT
BEGIN:VEVENT
DTSTART;TZID=UTC:20270711T091500
DTEND;TZID=UTC:20270711T095000
DTSTAMP:20260422T190322
CREATED:20250324T195157Z
LAST-MODIFIED:20250324T195157Z
UID:10000120-1815297300-1815299400@myslcc.org
SUMMARY:Coffee and Snacks Fellowship
DESCRIPTION:
URL:https://myslcc.org/event/coffee-and-snacks-fellowship/2027-07-11/
END:VEVENT
BEGIN:VEVENT
DTSTART;TZID=UTC:20270718T091500
DTEND;TZID=UTC:20270718T095000
DTSTAMP:20260422T190322
CREATED:20250324T195157Z
LAST-MODIFIED:20250324T195157Z
UID:10000121-1815902100-1815904200@myslcc.org
SUMMARY:Coffee and Snacks Fellowship
DESCRIPTION:
URL:https://myslcc.org/event/coffee-and-snacks-fellowship/2027-07-18/
END:VEVENT
BEGIN:VEVENT
DTSTART;TZID=UTC:20270725T091500
DTEND;TZID=UTC:20270725T095000
DTSTAMP:20260422T190322
CREATED:20250324T195157Z
LAST-MODIFIED:20250324T195157Z
UID:10000122-1816506900-1816509000@myslcc.org
SUMMARY:Coffee and Snacks Fellowship
DESCRIPTION:
URL:https://myslcc.org/event/coffee-and-snacks-fellowship/2027-07-25/
END:VEVENT
BEGIN:VEVENT
DTSTART;TZID=UTC:20270801T091500
DTEND;TZID=UTC:20270801T095000
DTSTAMP:20260422T190322
CREATED:20250324T195157Z
LAST-MODIFIED:20250324T195157Z
UID:10000123-1817111700-1817113800@myslcc.org
SUMMARY:Coffee and Snacks Fellowship
DESCRIPTION:
URL:https://myslcc.org/event/coffee-and-snacks-fellowship/2027-08-01/
END:VEVENT
BEGIN:VEVENT
DTSTART;TZID=UTC:20270808T091500
DTEND;TZID=UTC:20270808T095000
DTSTAMP:20260422T190322
CREATED:20250324T195157Z
LAST-MODIFIED:20250324T195157Z
UID:10000124-1817716500-1817718600@myslcc.org
SUMMARY:Coffee and Snacks Fellowship
DESCRIPTION:
URL:https://myslcc.org/event/coffee-and-snacks-fellowship/2027-08-08/
END:VEVENT
BEGIN:VEVENT
DTSTART;TZID=UTC:20270815T091500
DTEND;TZID=UTC:20270815T095000
DTSTAMP:20260422T190322
CREATED:20250324T195157Z
LAST-MODIFIED:20250324T195157Z
UID:10000125-1818321300-1818323400@myslcc.org
SUMMARY:Coffee and Snacks Fellowship
DESCRIPTION:
URL:https://myslcc.org/event/coffee-and-snacks-fellowship/2027-08-15/
END:VEVENT
BEGIN:VEVENT
DTSTART;TZID=UTC:20270822T091500
DTEND;TZID=UTC:20270822T095000
DTSTAMP:20260422T190322
CREATED:20250324T195157Z
LAST-MODIFIED:20250324T195157Z
UID:10000126-1818926100-1818928200@myslcc.org
SUMMARY:Coffee and Snacks Fellowship
DESCRIPTION:
URL:https://myslcc.org/event/coffee-and-snacks-fellowship/2027-08-22/
END:VEVENT
BEGIN:VEVENT
DTSTART;TZID=UTC:20270829T091500
DTEND;TZID=UTC:20270829T095000
DTSTAMP:20260422T190322
CREATED:20250324T195157Z
LAST-MODIFIED:20250324T195157Z
UID:10000127-1819530900-1819533000@myslcc.org
SUMMARY:Coffee and Snacks Fellowship
DESCRIPTION:
URL:https://myslcc.org/event/coffee-and-snacks-fellowship/2027-08-29/
END:VEVENT
BEGIN:VEVENT
DTSTART;TZID=UTC:20270905T091500
DTEND;TZID=UTC:20270905T095000
DTSTAMP:20260422T190322
CREATED:20250324T195157Z
LAST-MODIFIED:20250324T195157Z
UID:10000128-1820135700-1820137800@myslcc.org
SUMMARY:Coffee and Snacks Fellowship
DESCRIPTION:
URL:https://myslcc.org/event/coffee-and-snacks-fellowship/2027-09-05/
END:VEVENT
BEGIN:VEVENT
DTSTART;TZID=UTC:20270912T091500
DTEND;TZID=UTC:20270912T095000
DTSTAMP:20260422T190322
CREATED:20250324T195157Z
LAST-MODIFIED:20250324T195157Z
UID:10000129-1820740500-1820742600@myslcc.org
SUMMARY:Coffee and Snacks Fellowship
DESCRIPTION:
URL:https://myslcc.org/event/coffee-and-snacks-fellowship/2027-09-12/
END:VEVENT
BEGIN:VEVENT
DTSTART;TZID=UTC:20270919T091500
DTEND;TZID=UTC:20270919T095000
DTSTAMP:20260422T190322
CREATED:20250324T195157Z
LAST-MODIFIED:20250324T195157Z
UID:10000130-1821345300-1821347400@myslcc.org
SUMMARY:Coffee and Snacks Fellowship
DESCRIPTION:
URL:https://myslcc.org/event/coffee-and-snacks-fellowship/2027-09-19/
END:VEVENT
BEGIN:VEVENT
DTSTART;TZID=UTC:20270926T091500
DTEND;TZID=UTC:20270926T095000
DTSTAMP:20260422T190322
CREATED:20250324T195157Z
LAST-MODIFIED:20250324T195157Z
UID:10000131-1821950100-1821952200@myslcc.org
SUMMARY:Coffee and Snacks Fellowship
DESCRIPTION:
URL:https://myslcc.org/event/coffee-and-snacks-fellowship/2027-09-26/
END:VEVENT
BEGIN:VEVENT
DTSTART;TZID=UTC:20271003T091500
DTEND;TZID=UTC:20271003T095000
DTSTAMP:20260422T190322
CREATED:20250324T195157Z
LAST-MODIFIED:20250324T195157Z
UID:10000132-1822554900-1822557000@myslcc.org
SUMMARY:Coffee and Snacks Fellowship
DESCRIPTION:
URL:https://myslcc.org/event/coffee-and-snacks-fellowship/2027-10-03/
END:VEVENT
BEGIN:VEVENT
DTSTART;TZID=UTC:20271010T091500
DTEND;TZID=UTC:20271010T095000
DTSTAMP:20260422T190322
CREATED:20250324T195157Z
LAST-MODIFIED:20250324T195157Z
UID:10000133-1823159700-1823161800@myslcc.org
SUMMARY:Coffee and Snacks Fellowship
DESCRIPTION:
URL:https://myslcc.org/event/coffee-and-snacks-fellowship/2027-10-10/
END:VEVENT
BEGIN:VEVENT
DTSTART;TZID=UTC:20271017T091500
DTEND;TZID=UTC:20271017T095000
DTSTAMP:20260422T190322
CREATED:20250324T195157Z
LAST-MODIFIED:20250324T195157Z
UID:10000134-1823764500-1823766600@myslcc.org
SUMMARY:Coffee and Snacks Fellowship
DESCRIPTION:
URL:https://myslcc.org/event/coffee-and-snacks-fellowship/2027-10-17/
END:VEVENT
BEGIN:VEVENT
DTSTART;TZID=UTC:20271024T091500
DTEND;TZID=UTC:20271024T095000
DTSTAMP:20260422T190322
CREATED:20250324T195157Z
LAST-MODIFIED:20250324T195157Z
UID:10000135-1824369300-1824371400@myslcc.org
SUMMARY:Coffee and Snacks Fellowship
DESCRIPTION:
URL:https://myslcc.org/event/coffee-and-snacks-fellowship/2027-10-24/
END:VEVENT
BEGIN:VEVENT
DTSTART;TZID=UTC:20271031T091500
DTEND;TZID=UTC:20271031T095000
DTSTAMP:20260422T190322
CREATED:20250324T195157Z
LAST-MODIFIED:20250324T195157Z
UID:10000136-1824974100-1824976200@myslcc.org
SUMMARY:Coffee and Snacks Fellowship
DESCRIPTION:
URL:https://myslcc.org/event/coffee-and-snacks-fellowship/2027-10-31/
END:VEVENT
BEGIN:VEVENT
DTSTART;TZID=UTC:20271107T091500
DTEND;TZID=UTC:20271107T095000
DTSTAMP:20260422T190322
CREATED:20250324T195157Z
LAST-MODIFIED:20250324T195157Z
UID:10000137-1825578900-1825581000@myslcc.org
SUMMARY:Coffee and Snacks Fellowship
DESCRIPTION:
URL:https://myslcc.org/event/coffee-and-snacks-fellowship/2027-11-07/
END:VEVENT
BEGIN:VEVENT
DTSTART;TZID=UTC:20271114T091500
DTEND;TZID=UTC:20271114T095000
DTSTAMP:20260422T190322
CREATED:20250324T195157Z
LAST-MODIFIED:20250324T195157Z
UID:10000138-1826183700-1826185800@myslcc.org
SUMMARY:Coffee and Snacks Fellowship
DESCRIPTION:
URL:https://myslcc.org/event/coffee-and-snacks-fellowship/2027-11-14/
END:VEVENT
BEGIN:VEVENT
DTSTART;TZID=UTC:20271121T091500
DTEND;TZID=UTC:20271121T095000
DTSTAMP:20260422T190322
CREATED:20250324T195157Z
LAST-MODIFIED:20250324T195157Z
UID:10000139-1826788500-1826790600@myslcc.org
SUMMARY:Coffee and Snacks Fellowship
DESCRIPTION:
URL:https://myslcc.org/event/coffee-and-snacks-fellowship/2027-11-21/
END:VEVENT
BEGIN:VEVENT
DTSTART;TZID=UTC:20271128T091500
DTEND;TZID=UTC:20271128T095000
DTSTAMP:20260422T190322
CREATED:20250324T195157Z
LAST-MODIFIED:20250324T195157Z
UID:10000140-1827393300-1827395400@myslcc.org
SUMMARY:Coffee and Snacks Fellowship
DESCRIPTION:
URL:https://myslcc.org/event/coffee-and-snacks-fellowship/2027-11-28/
END:VEVENT
BEGIN:VEVENT
DTSTART;TZID=UTC:20271205T091500
DTEND;TZID=UTC:20271205T095000
DTSTAMP:20260422T190322
CREATED:20250324T195157Z
LAST-MODIFIED:20250324T195157Z
UID:10000141-1827998100-1828000200@myslcc.org
SUMMARY:Coffee and Snacks Fellowship
DESCRIPTION:
URL:https://myslcc.org/event/coffee-and-snacks-fellowship/2027-12-05/
END:VEVENT
BEGIN:VEVENT
DTSTART;TZID=UTC:20271212T091500
DTEND;TZID=UTC:20271212T095000
DTSTAMP:20260422T190322
CREATED:20250324T195157Z
LAST-MODIFIED:20250324T195157Z
UID:10000142-1828602900-1828605000@myslcc.org
SUMMARY:Coffee and Snacks Fellowship
DESCRIPTION:
URL:https://myslcc.org/event/coffee-and-snacks-fellowship/2027-12-12/
END:VEVENT
BEGIN:VEVENT
DTSTART;TZID=UTC:20271219T091500
DTEND;TZID=UTC:20271219T095000
DTSTAMP:20260422T190322
CREATED:20250324T195157Z
LAST-MODIFIED:20250324T195157Z
UID:10000143-1829207700-1829209800@myslcc.org
SUMMARY:Coffee and Snacks Fellowship
DESCRIPTION:
URL:https://myslcc.org/event/coffee-and-snacks-fellowship/2027-12-19/
END:VEVENT
BEGIN:VEVENT
DTSTART;TZID=UTC:20271226T091500
DTEND;TZID=UTC:20271226T095000
DTSTAMP:20260422T190322
CREATED:20250324T195157Z
LAST-MODIFIED:20250324T195157Z
UID:10000144-1829812500-1829814600@myslcc.org
SUMMARY:Coffee and Snacks Fellowship
DESCRIPTION:
URL:https://myslcc.org/event/coffee-and-snacks-fellowship/2027-12-26/
END:VEVENT
BEGIN:VEVENT
DTSTART;TZID=UTC:20280102T091500
DTEND;TZID=UTC:20280102T095000
DTSTAMP:20260422T190322
CREATED:20250324T195157Z
LAST-MODIFIED:20250324T195157Z
UID:10000145-1830417300-1830419400@myslcc.org
SUMMARY:Coffee and Snacks Fellowship
DESCRIPTION:
URL:https://myslcc.org/event/coffee-and-snacks-fellowship/2028-01-02/
END:VEVENT
BEGIN:VEVENT
DTSTART;TZID=UTC:20280109T091500
DTEND;TZID=UTC:20280109T095000
DTSTAMP:20260422T190322
CREATED:20250324T195157Z
LAST-MODIFIED:20250324T195157Z
UID:10000146-1831022100-1831024200@myslcc.org
SUMMARY:Coffee and Snacks Fellowship
DESCRIPTION:
URL:https://myslcc.org/event/coffee-and-snacks-fellowship/2028-01-09/
END:VEVENT
END:VCALENDAR