BEGIN:VCALENDAR
VERSION:2.0
PRODID:-//Spirit Lake Community Church - ECPv6.11.0.1//NONSGML v1.0//EN
CALSCALE:GREGORIAN
METHOD:PUBLISH
X-WR-CALNAME:Spirit Lake Community Church
X-ORIGINAL-URL:https://myslcc.org
X-WR-CALDESC:Events for Spirit Lake Community Church
REFRESH-INTERVAL;VALUE=DURATION:PT1H
X-Robots-Tag:noindex
X-PUBLISHED-TTL:PT1H
BEGIN:VTIMEZONE
TZID:UTC
BEGIN:STANDARD
TZOFFSETFROM:+0000
TZOFFSETTO:+0000
TZNAME:UTC
DTSTART:20290101T000000
END:STANDARD
END:VTIMEZONE
BEGIN:VEVENT
DTSTART;TZID=UTC:20290825T100000
DTEND;TZID=UTC:20290825T110000
DTSTAMP:20260422T161409
CREATED:20250324T200004Z
LAST-MODIFIED:20250324T200004Z
UID:10001940-1882346400-1882350000@myslcc.org
SUMMARY:Men’s Meeting
DESCRIPTION:
URL:https://myslcc.org/event/mens-meeting/2029-08-25/
END:VEVENT
BEGIN:VEVENT
DTSTART;TZID=UTC:20290922T100000
DTEND;TZID=UTC:20290922T110000
DTSTAMP:20260422T161409
CREATED:20250324T200004Z
LAST-MODIFIED:20250324T200004Z
UID:10001941-1884765600-1884769200@myslcc.org
SUMMARY:Men’s Meeting
DESCRIPTION:
URL:https://myslcc.org/event/mens-meeting/2029-09-22/
END:VEVENT
BEGIN:VEVENT
DTSTART;TZID=UTC:20291027T100000
DTEND;TZID=UTC:20291027T110000
DTSTAMP:20260422T161409
CREATED:20250324T200004Z
LAST-MODIFIED:20250324T200004Z
UID:10001942-1887789600-1887793200@myslcc.org
SUMMARY:Men’s Meeting
DESCRIPTION:
URL:https://myslcc.org/event/mens-meeting/2029-10-27/
END:VEVENT
BEGIN:VEVENT
DTSTART;TZID=UTC:20291124T100000
DTEND;TZID=UTC:20291124T110000
DTSTAMP:20260422T161409
CREATED:20250324T200004Z
LAST-MODIFIED:20250324T200004Z
UID:10001943-1890208800-1890212400@myslcc.org
SUMMARY:Men’s Meeting
DESCRIPTION:
URL:https://myslcc.org/event/mens-meeting/2029-11-24/
END:VEVENT
BEGIN:VEVENT
DTSTART;TZID=UTC:20291222T100000
DTEND;TZID=UTC:20291222T110000
DTSTAMP:20260422T161409
CREATED:20250324T200004Z
LAST-MODIFIED:20250324T200004Z
UID:10001944-1892628000-1892631600@myslcc.org
SUMMARY:Men’s Meeting
DESCRIPTION:
URL:https://myslcc.org/event/mens-meeting/2029-12-22/
END:VEVENT
BEGIN:VEVENT
DTSTART;TZID=UTC:20300126T100000
DTEND;TZID=UTC:20300126T110000
DTSTAMP:20260422T161409
CREATED:20250324T200004Z
LAST-MODIFIED:20250324T200004Z
UID:10001945-1895652000-1895655600@myslcc.org
SUMMARY:Men’s Meeting
DESCRIPTION:
URL:https://myslcc.org/event/mens-meeting/2030-01-26/
END:VEVENT
BEGIN:VEVENT
DTSTART;TZID=UTC:20300223T100000
DTEND;TZID=UTC:20300223T110000
DTSTAMP:20260422T161409
CREATED:20250324T200004Z
LAST-MODIFIED:20250324T200004Z
UID:10001946-1898071200-1898074800@myslcc.org
SUMMARY:Men’s Meeting
DESCRIPTION:
URL:https://myslcc.org/event/mens-meeting/2030-02-23/
END:VEVENT
BEGIN:VEVENT
DTSTART;TZID=UTC:20300323T100000
DTEND;TZID=UTC:20300323T110000
DTSTAMP:20260422T161409
CREATED:20250324T200004Z
LAST-MODIFIED:20250324T200004Z
UID:10001947-1900490400-1900494000@myslcc.org
SUMMARY:Men’s Meeting
DESCRIPTION:
URL:https://myslcc.org/event/mens-meeting/2030-03-23/
END:VEVENT
END:VCALENDAR