BEGIN:VCALENDAR
VERSION:2.0
PRODID:-//Spirit Lake Community Church - ECPv6.11.0.1//NONSGML v1.0//EN
CALSCALE:GREGORIAN
METHOD:PUBLISH
X-ORIGINAL-URL:https://myslcc.org
X-WR-CALDESC:Events for Spirit Lake Community Church
REFRESH-INTERVAL;VALUE=DURATION:PT1H
X-Robots-Tag:noindex
X-PUBLISHED-TTL:PT1H
BEGIN:VTIMEZONE
TZID:UTC
BEGIN:STANDARD
TZOFFSETFROM:+0000
TZOFFSETTO:+0000
TZNAME:UTC
DTSTART:20260101T000000
END:STANDARD
END:VTIMEZONE
BEGIN:VEVENT
DTSTART;TZID=UTC:20260913T091500
DTEND;TZID=UTC:20260913T095000
DTSTAMP:20260422T122957
CREATED:20250324T195157Z
LAST-MODIFIED:20250324T195157Z
UID:10000077-1789290900-1789293000@myslcc.org
SUMMARY:Coffee and Snacks Fellowship
DESCRIPTION:
URL:https://myslcc.org/event/coffee-and-snacks-fellowship/2026-09-13/
END:VEVENT
BEGIN:VEVENT
DTSTART;TZID=UTC:20260920T091500
DTEND;TZID=UTC:20260920T095000
DTSTAMP:20260422T122957
CREATED:20250324T195157Z
LAST-MODIFIED:20250324T195157Z
UID:10000078-1789895700-1789897800@myslcc.org
SUMMARY:Coffee and Snacks Fellowship
DESCRIPTION:
URL:https://myslcc.org/event/coffee-and-snacks-fellowship/2026-09-20/
END:VEVENT
BEGIN:VEVENT
DTSTART;TZID=UTC:20260927T091500
DTEND;TZID=UTC:20260927T095000
DTSTAMP:20260422T122957
CREATED:20250324T195157Z
LAST-MODIFIED:20250324T195157Z
UID:10000079-1790500500-1790502600@myslcc.org
SUMMARY:Coffee and Snacks Fellowship
DESCRIPTION:
URL:https://myslcc.org/event/coffee-and-snacks-fellowship/2026-09-27/
END:VEVENT
BEGIN:VEVENT
DTSTART;TZID=UTC:20261004T091500
DTEND;TZID=UTC:20261004T095000
DTSTAMP:20260422T122957
CREATED:20250324T195157Z
LAST-MODIFIED:20250324T195157Z
UID:10000080-1791105300-1791107400@myslcc.org
SUMMARY:Coffee and Snacks Fellowship
DESCRIPTION:
URL:https://myslcc.org/event/coffee-and-snacks-fellowship/2026-10-04/
END:VEVENT
BEGIN:VEVENT
DTSTART;TZID=UTC:20261011T091500
DTEND;TZID=UTC:20261011T095000
DTSTAMP:20260422T122957
CREATED:20250324T195157Z
LAST-MODIFIED:20250324T195157Z
UID:10000081-1791710100-1791712200@myslcc.org
SUMMARY:Coffee and Snacks Fellowship
DESCRIPTION:
URL:https://myslcc.org/event/coffee-and-snacks-fellowship/2026-10-11/
END:VEVENT
BEGIN:VEVENT
DTSTART;TZID=UTC:20261018T091500
DTEND;TZID=UTC:20261018T095000
DTSTAMP:20260422T122957
CREATED:20250324T195157Z
LAST-MODIFIED:20250324T195157Z
UID:10000082-1792314900-1792317000@myslcc.org
SUMMARY:Coffee and Snacks Fellowship
DESCRIPTION:
URL:https://myslcc.org/event/coffee-and-snacks-fellowship/2026-10-18/
END:VEVENT
BEGIN:VEVENT
DTSTART;TZID=UTC:20261025T091500
DTEND;TZID=UTC:20261025T095000
DTSTAMP:20260422T122957
CREATED:20250324T195157Z
LAST-MODIFIED:20250324T195157Z
UID:10000083-1792919700-1792921800@myslcc.org
SUMMARY:Coffee and Snacks Fellowship
DESCRIPTION:
URL:https://myslcc.org/event/coffee-and-snacks-fellowship/2026-10-25/
END:VEVENT
BEGIN:VEVENT
DTSTART;TZID=UTC:20261101T091500
DTEND;TZID=UTC:20261101T095000
DTSTAMP:20260422T122957
CREATED:20250324T195157Z
LAST-MODIFIED:20250324T195157Z
UID:10000084-1793524500-1793526600@myslcc.org
SUMMARY:Coffee and Snacks Fellowship
DESCRIPTION:
URL:https://myslcc.org/event/coffee-and-snacks-fellowship/2026-11-01/
END:VEVENT
BEGIN:VEVENT
DTSTART;TZID=UTC:20261108T091500
DTEND;TZID=UTC:20261108T095000
DTSTAMP:20260422T122957
CREATED:20250324T195157Z
LAST-MODIFIED:20250324T195157Z
UID:10000085-1794129300-1794131400@myslcc.org
SUMMARY:Coffee and Snacks Fellowship
DESCRIPTION:
URL:https://myslcc.org/event/coffee-and-snacks-fellowship/2026-11-08/
END:VEVENT
BEGIN:VEVENT
DTSTART;TZID=UTC:20261115T091500
DTEND;TZID=UTC:20261115T095000
DTSTAMP:20260422T122957
CREATED:20250324T195157Z
LAST-MODIFIED:20250324T195157Z
UID:10000086-1794734100-1794736200@myslcc.org
SUMMARY:Coffee and Snacks Fellowship
DESCRIPTION:
URL:https://myslcc.org/event/coffee-and-snacks-fellowship/2026-11-15/
END:VEVENT
BEGIN:VEVENT
DTSTART;TZID=UTC:20261122T091500
DTEND;TZID=UTC:20261122T095000
DTSTAMP:20260422T122957
CREATED:20250324T195157Z
LAST-MODIFIED:20250324T195157Z
UID:10000087-1795338900-1795341000@myslcc.org
SUMMARY:Coffee and Snacks Fellowship
DESCRIPTION:
URL:https://myslcc.org/event/coffee-and-snacks-fellowship/2026-11-22/
END:VEVENT
BEGIN:VEVENT
DTSTART;TZID=UTC:20261129T091500
DTEND;TZID=UTC:20261129T095000
DTSTAMP:20260422T122957
CREATED:20250324T195157Z
LAST-MODIFIED:20250324T195157Z
UID:10000088-1795943700-1795945800@myslcc.org
SUMMARY:Coffee and Snacks Fellowship
DESCRIPTION:
URL:https://myslcc.org/event/coffee-and-snacks-fellowship/2026-11-29/
END:VEVENT
BEGIN:VEVENT
DTSTART;TZID=UTC:20261206T091500
DTEND;TZID=UTC:20261206T095000
DTSTAMP:20260422T122957
CREATED:20250324T195157Z
LAST-MODIFIED:20250324T195157Z
UID:10000089-1796548500-1796550600@myslcc.org
SUMMARY:Coffee and Snacks Fellowship
DESCRIPTION:
URL:https://myslcc.org/event/coffee-and-snacks-fellowship/2026-12-06/
END:VEVENT
BEGIN:VEVENT
DTSTART;TZID=UTC:20261213T091500
DTEND;TZID=UTC:20261213T095000
DTSTAMP:20260422T122957
CREATED:20250324T195157Z
LAST-MODIFIED:20250324T195157Z
UID:10000090-1797153300-1797155400@myslcc.org
SUMMARY:Coffee and Snacks Fellowship
DESCRIPTION:
URL:https://myslcc.org/event/coffee-and-snacks-fellowship/2026-12-13/
END:VEVENT
BEGIN:VEVENT
DTSTART;TZID=UTC:20261220T091500
DTEND;TZID=UTC:20261220T095000
DTSTAMP:20260422T122957
CREATED:20250324T195157Z
LAST-MODIFIED:20250324T195157Z
UID:10000091-1797758100-1797760200@myslcc.org
SUMMARY:Coffee and Snacks Fellowship
DESCRIPTION:
URL:https://myslcc.org/event/coffee-and-snacks-fellowship/2026-12-20/
END:VEVENT
BEGIN:VEVENT
DTSTART;TZID=UTC:20261227T091500
DTEND;TZID=UTC:20261227T095000
DTSTAMP:20260422T122957
CREATED:20250324T195157Z
LAST-MODIFIED:20250324T195157Z
UID:10000092-1798362900-1798365000@myslcc.org
SUMMARY:Coffee and Snacks Fellowship
DESCRIPTION:
URL:https://myslcc.org/event/coffee-and-snacks-fellowship/2026-12-27/
END:VEVENT
BEGIN:VEVENT
DTSTART;TZID=UTC:20270103T091500
DTEND;TZID=UTC:20270103T095000
DTSTAMP:20260422T122957
CREATED:20250324T195157Z
LAST-MODIFIED:20250324T195157Z
UID:10000093-1798967700-1798969800@myslcc.org
SUMMARY:Coffee and Snacks Fellowship
DESCRIPTION:
URL:https://myslcc.org/event/coffee-and-snacks-fellowship/2027-01-03/
END:VEVENT
BEGIN:VEVENT
DTSTART;TZID=UTC:20270110T091500
DTEND;TZID=UTC:20270110T095000
DTSTAMP:20260422T122957
CREATED:20250324T195157Z
LAST-MODIFIED:20250324T195157Z
UID:10000094-1799572500-1799574600@myslcc.org
SUMMARY:Coffee and Snacks Fellowship
DESCRIPTION:
URL:https://myslcc.org/event/coffee-and-snacks-fellowship/2027-01-10/
END:VEVENT
BEGIN:VEVENT
DTSTART;TZID=UTC:20270117T091500
DTEND;TZID=UTC:20270117T095000
DTSTAMP:20260422T122957
CREATED:20250324T195157Z
LAST-MODIFIED:20250324T195157Z
UID:10000095-1800177300-1800179400@myslcc.org
SUMMARY:Coffee and Snacks Fellowship
DESCRIPTION:
URL:https://myslcc.org/event/coffee-and-snacks-fellowship/2027-01-17/
END:VEVENT
BEGIN:VEVENT
DTSTART;TZID=UTC:20270124T091500
DTEND;TZID=UTC:20270124T095000
DTSTAMP:20260422T122957
CREATED:20250324T195157Z
LAST-MODIFIED:20250324T195157Z
UID:10000096-1800782100-1800784200@myslcc.org
SUMMARY:Coffee and Snacks Fellowship
DESCRIPTION:
URL:https://myslcc.org/event/coffee-and-snacks-fellowship/2027-01-24/
END:VEVENT
BEGIN:VEVENT
DTSTART;TZID=UTC:20270131T091500
DTEND;TZID=UTC:20270131T095000
DTSTAMP:20260422T122957
CREATED:20250324T195157Z
LAST-MODIFIED:20250324T195157Z
UID:10000097-1801386900-1801389000@myslcc.org
SUMMARY:Coffee and Snacks Fellowship
DESCRIPTION:
URL:https://myslcc.org/event/coffee-and-snacks-fellowship/2027-01-31/
END:VEVENT
BEGIN:VEVENT
DTSTART;TZID=UTC:20270207T091500
DTEND;TZID=UTC:20270207T095000
DTSTAMP:20260422T122957
CREATED:20250324T195157Z
LAST-MODIFIED:20250324T195157Z
UID:10000098-1801991700-1801993800@myslcc.org
SUMMARY:Coffee and Snacks Fellowship
DESCRIPTION:
URL:https://myslcc.org/event/coffee-and-snacks-fellowship/2027-02-07/
END:VEVENT
BEGIN:VEVENT
DTSTART;TZID=UTC:20270214T091500
DTEND;TZID=UTC:20270214T095000
DTSTAMP:20260422T122957
CREATED:20250324T195157Z
LAST-MODIFIED:20250324T195157Z
UID:10000099-1802596500-1802598600@myslcc.org
SUMMARY:Coffee and Snacks Fellowship
DESCRIPTION:
URL:https://myslcc.org/event/coffee-and-snacks-fellowship/2027-02-14/
END:VEVENT
BEGIN:VEVENT
DTSTART;TZID=UTC:20270221T091500
DTEND;TZID=UTC:20270221T095000
DTSTAMP:20260422T122957
CREATED:20250324T195157Z
LAST-MODIFIED:20250324T195157Z
UID:10000100-1803201300-1803203400@myslcc.org
SUMMARY:Coffee and Snacks Fellowship
DESCRIPTION:
URL:https://myslcc.org/event/coffee-and-snacks-fellowship/2027-02-21/
END:VEVENT
BEGIN:VEVENT
DTSTART;TZID=UTC:20270228T091500
DTEND;TZID=UTC:20270228T095000
DTSTAMP:20260422T122957
CREATED:20250324T195157Z
LAST-MODIFIED:20250324T195157Z
UID:10000101-1803806100-1803808200@myslcc.org
SUMMARY:Coffee and Snacks Fellowship
DESCRIPTION:
URL:https://myslcc.org/event/coffee-and-snacks-fellowship/2027-02-28/
END:VEVENT
BEGIN:VEVENT
DTSTART;TZID=UTC:20270307T091500
DTEND;TZID=UTC:20270307T095000
DTSTAMP:20260422T122957
CREATED:20250324T195157Z
LAST-MODIFIED:20250324T195157Z
UID:10000102-1804410900-1804413000@myslcc.org
SUMMARY:Coffee and Snacks Fellowship
DESCRIPTION:
URL:https://myslcc.org/event/coffee-and-snacks-fellowship/2027-03-07/
END:VEVENT
BEGIN:VEVENT
DTSTART;TZID=UTC:20270314T091500
DTEND;TZID=UTC:20270314T095000
DTSTAMP:20260422T122957
CREATED:20250324T195157Z
LAST-MODIFIED:20250324T195157Z
UID:10000103-1805015700-1805017800@myslcc.org
SUMMARY:Coffee and Snacks Fellowship
DESCRIPTION:
URL:https://myslcc.org/event/coffee-and-snacks-fellowship/2027-03-14/
END:VEVENT
BEGIN:VEVENT
DTSTART;TZID=UTC:20270321T091500
DTEND;TZID=UTC:20270321T095000
DTSTAMP:20260422T122957
CREATED:20250324T195157Z
LAST-MODIFIED:20250324T195157Z
UID:10000104-1805620500-1805622600@myslcc.org
SUMMARY:Coffee and Snacks Fellowship
DESCRIPTION:
URL:https://myslcc.org/event/coffee-and-snacks-fellowship/2027-03-21/
END:VEVENT
BEGIN:VEVENT
DTSTART;TZID=UTC:20270328T091500
DTEND;TZID=UTC:20270328T095000
DTSTAMP:20260422T122957
CREATED:20250324T195157Z
LAST-MODIFIED:20250324T195157Z
UID:10000105-1806225300-1806227400@myslcc.org
SUMMARY:Coffee and Snacks Fellowship
DESCRIPTION:
URL:https://myslcc.org/event/coffee-and-snacks-fellowship/2027-03-28/
END:VEVENT
BEGIN:VEVENT
DTSTART;TZID=UTC:20270404T091500
DTEND;TZID=UTC:20270404T095000
DTSTAMP:20260422T122957
CREATED:20250324T195157Z
LAST-MODIFIED:20250324T195157Z
UID:10000106-1806830100-1806832200@myslcc.org
SUMMARY:Coffee and Snacks Fellowship
DESCRIPTION:
URL:https://myslcc.org/event/coffee-and-snacks-fellowship/2027-04-04/
END:VEVENT
END:VCALENDAR