BEGIN:VCALENDAR
VERSION:2.0
PRODID:-//Spirit Lake Community Church - ECPv6.11.0.1//NONSGML v1.0//EN
CALSCALE:GREGORIAN
METHOD:PUBLISH
X-WR-CALNAME:Spirit Lake Community Church
X-ORIGINAL-URL:https://myslcc.org
X-WR-CALDESC:Events for Spirit Lake Community Church
REFRESH-INTERVAL;VALUE=DURATION:PT1H
X-Robots-Tag:noindex
X-PUBLISHED-TTL:PT1H
BEGIN:VTIMEZONE
TZID:UTC
BEGIN:STANDARD
TZOFFSETFROM:+0000
TZOFFSETTO:+0000
TZNAME:UTC
DTSTART:20260101T000000
END:STANDARD
END:VTIMEZONE
BEGIN:VEVENT
DTSTART;TZID=UTC:20260425T100000
DTEND;TZID=UTC:20260425T110000
DTSTAMP:20260422T092244
CREATED:20250324T200004Z
LAST-MODIFIED:20250324T200004Z
UID:10001900-1777111200-1777114800@myslcc.org
SUMMARY:Men’s Meeting
DESCRIPTION:
URL:https://myslcc.org/event/mens-meeting/2026-04-25/
END:VEVENT
BEGIN:VEVENT
DTSTART;TZID=UTC:20260523T100000
DTEND;TZID=UTC:20260523T110000
DTSTAMP:20260422T092244
CREATED:20250324T200004Z
LAST-MODIFIED:20250324T200004Z
UID:10001901-1779530400-1779534000@myslcc.org
SUMMARY:Men’s Meeting
DESCRIPTION:
URL:https://myslcc.org/event/mens-meeting/2026-05-23/
END:VEVENT
BEGIN:VEVENT
DTSTART;TZID=UTC:20260627T100000
DTEND;TZID=UTC:20260627T110000
DTSTAMP:20260422T092244
CREATED:20250324T200004Z
LAST-MODIFIED:20250324T200004Z
UID:10001902-1782554400-1782558000@myslcc.org
SUMMARY:Men’s Meeting
DESCRIPTION:
URL:https://myslcc.org/event/mens-meeting/2026-06-27/
END:VEVENT
BEGIN:VEVENT
DTSTART;TZID=UTC:20260725T100000
DTEND;TZID=UTC:20260725T110000
DTSTAMP:20260422T092244
CREATED:20250324T200004Z
LAST-MODIFIED:20250324T200004Z
UID:10001903-1784973600-1784977200@myslcc.org
SUMMARY:Men’s Meeting
DESCRIPTION:
URL:https://myslcc.org/event/mens-meeting/2026-07-25/
END:VEVENT
BEGIN:VEVENT
DTSTART;TZID=UTC:20260822T100000
DTEND;TZID=UTC:20260822T110000
DTSTAMP:20260422T092244
CREATED:20250324T200004Z
LAST-MODIFIED:20250324T200004Z
UID:10001904-1787392800-1787396400@myslcc.org
SUMMARY:Men’s Meeting
DESCRIPTION:
URL:https://myslcc.org/event/mens-meeting/2026-08-22/
END:VEVENT
BEGIN:VEVENT
DTSTART;TZID=UTC:20260926T100000
DTEND;TZID=UTC:20260926T110000
DTSTAMP:20260422T092244
CREATED:20250324T200004Z
LAST-MODIFIED:20250324T200004Z
UID:10001905-1790416800-1790420400@myslcc.org
SUMMARY:Men’s Meeting
DESCRIPTION:
URL:https://myslcc.org/event/mens-meeting/2026-09-26/
END:VEVENT
BEGIN:VEVENT
DTSTART;TZID=UTC:20261024T100000
DTEND;TZID=UTC:20261024T110000
DTSTAMP:20260422T092244
CREATED:20250324T200004Z
LAST-MODIFIED:20250324T200004Z
UID:10001906-1792836000-1792839600@myslcc.org
SUMMARY:Men’s Meeting
DESCRIPTION:
URL:https://myslcc.org/event/mens-meeting/2026-10-24/
END:VEVENT
BEGIN:VEVENT
DTSTART;TZID=UTC:20261128T100000
DTEND;TZID=UTC:20261128T110000
DTSTAMP:20260422T092244
CREATED:20250324T200004Z
LAST-MODIFIED:20250324T200004Z
UID:10001907-1795860000-1795863600@myslcc.org
SUMMARY:Men’s Meeting
DESCRIPTION:
URL:https://myslcc.org/event/mens-meeting/2026-11-28/
END:VEVENT
BEGIN:VEVENT
DTSTART;TZID=UTC:20261226T100000
DTEND;TZID=UTC:20261226T110000
DTSTAMP:20260422T092244
CREATED:20250324T200004Z
LAST-MODIFIED:20250324T200004Z
UID:10001908-1798279200-1798282800@myslcc.org
SUMMARY:Men’s Meeting
DESCRIPTION:
URL:https://myslcc.org/event/mens-meeting/2026-12-26/
END:VEVENT
BEGIN:VEVENT
DTSTART;TZID=UTC:20270123T100000
DTEND;TZID=UTC:20270123T110000
DTSTAMP:20260422T092244
CREATED:20250324T200004Z
LAST-MODIFIED:20250324T200004Z
UID:10001909-1800698400-1800702000@myslcc.org
SUMMARY:Men’s Meeting
DESCRIPTION:
URL:https://myslcc.org/event/mens-meeting/2027-01-23/
END:VEVENT
BEGIN:VEVENT
DTSTART;TZID=UTC:20270227T100000
DTEND;TZID=UTC:20270227T110000
DTSTAMP:20260422T092244
CREATED:20250324T200004Z
LAST-MODIFIED:20250324T200004Z
UID:10001910-1803722400-1803726000@myslcc.org
SUMMARY:Men’s Meeting
DESCRIPTION:
URL:https://myslcc.org/event/mens-meeting/2027-02-27/
END:VEVENT
BEGIN:VEVENT
DTSTART;TZID=UTC:20270327T100000
DTEND;TZID=UTC:20270327T110000
DTSTAMP:20260422T092244
CREATED:20250324T200004Z
LAST-MODIFIED:20250324T200004Z
UID:10001911-1806141600-1806145200@myslcc.org
SUMMARY:Men’s Meeting
DESCRIPTION:
URL:https://myslcc.org/event/mens-meeting/2027-03-27/
END:VEVENT
BEGIN:VEVENT
DTSTART;TZID=UTC:20270424T100000
DTEND;TZID=UTC:20270424T110000
DTSTAMP:20260422T092244
CREATED:20250324T200004Z
LAST-MODIFIED:20250324T200004Z
UID:10001912-1808560800-1808564400@myslcc.org
SUMMARY:Men’s Meeting
DESCRIPTION:
URL:https://myslcc.org/event/mens-meeting/2027-04-24/
END:VEVENT
BEGIN:VEVENT
DTSTART;TZID=UTC:20270522T100000
DTEND;TZID=UTC:20270522T110000
DTSTAMP:20260422T092244
CREATED:20250324T200004Z
LAST-MODIFIED:20250324T200004Z
UID:10001913-1810980000-1810983600@myslcc.org
SUMMARY:Men’s Meeting
DESCRIPTION:
URL:https://myslcc.org/event/mens-meeting/2027-05-22/
END:VEVENT
BEGIN:VEVENT
DTSTART;TZID=UTC:20270626T100000
DTEND;TZID=UTC:20270626T110000
DTSTAMP:20260422T092244
CREATED:20250324T200004Z
LAST-MODIFIED:20250324T200004Z
UID:10001914-1814004000-1814007600@myslcc.org
SUMMARY:Men’s Meeting
DESCRIPTION:
URL:https://myslcc.org/event/mens-meeting/2027-06-26/
END:VEVENT
BEGIN:VEVENT
DTSTART;TZID=UTC:20270724T100000
DTEND;TZID=UTC:20270724T110000
DTSTAMP:20260422T092244
CREATED:20250324T200004Z
LAST-MODIFIED:20250324T200004Z
UID:10001915-1816423200-1816426800@myslcc.org
SUMMARY:Men’s Meeting
DESCRIPTION:
URL:https://myslcc.org/event/mens-meeting/2027-07-24/
END:VEVENT
BEGIN:VEVENT
DTSTART;TZID=UTC:20270828T100000
DTEND;TZID=UTC:20270828T110000
DTSTAMP:20260422T092244
CREATED:20250324T200004Z
LAST-MODIFIED:20250324T200004Z
UID:10001916-1819447200-1819450800@myslcc.org
SUMMARY:Men’s Meeting
DESCRIPTION:
URL:https://myslcc.org/event/mens-meeting/2027-08-28/
END:VEVENT
BEGIN:VEVENT
DTSTART;TZID=UTC:20270925T100000
DTEND;TZID=UTC:20270925T110000
DTSTAMP:20260422T092244
CREATED:20250324T200004Z
LAST-MODIFIED:20250324T200004Z
UID:10001917-1821866400-1821870000@myslcc.org
SUMMARY:Men’s Meeting
DESCRIPTION:
URL:https://myslcc.org/event/mens-meeting/2027-09-25/
END:VEVENT
BEGIN:VEVENT
DTSTART;TZID=UTC:20271023T100000
DTEND;TZID=UTC:20271023T110000
DTSTAMP:20260422T092244
CREATED:20250324T200004Z
LAST-MODIFIED:20250324T200004Z
UID:10001918-1824285600-1824289200@myslcc.org
SUMMARY:Men’s Meeting
DESCRIPTION:
URL:https://myslcc.org/event/mens-meeting/2027-10-23/
END:VEVENT
BEGIN:VEVENT
DTSTART;TZID=UTC:20271127T100000
DTEND;TZID=UTC:20271127T110000
DTSTAMP:20260422T092244
CREATED:20250324T200004Z
LAST-MODIFIED:20250324T200004Z
UID:10001919-1827309600-1827313200@myslcc.org
SUMMARY:Men’s Meeting
DESCRIPTION:
URL:https://myslcc.org/event/mens-meeting/2027-11-27/
END:VEVENT
BEGIN:VEVENT
DTSTART;TZID=UTC:20271225T100000
DTEND;TZID=UTC:20271225T110000
DTSTAMP:20260422T092244
CREATED:20250324T200004Z
LAST-MODIFIED:20250324T200004Z
UID:10001920-1829728800-1829732400@myslcc.org
SUMMARY:Men’s Meeting
DESCRIPTION:
URL:https://myslcc.org/event/mens-meeting/2027-12-25/
END:VEVENT
BEGIN:VEVENT
DTSTART;TZID=UTC:20280122T100000
DTEND;TZID=UTC:20280122T110000
DTSTAMP:20260422T092244
CREATED:20250324T200004Z
LAST-MODIFIED:20250324T200004Z
UID:10001921-1832148000-1832151600@myslcc.org
SUMMARY:Men’s Meeting
DESCRIPTION:
URL:https://myslcc.org/event/mens-meeting/2028-01-22/
END:VEVENT
BEGIN:VEVENT
DTSTART;TZID=UTC:20280226T100000
DTEND;TZID=UTC:20280226T110000
DTSTAMP:20260422T092244
CREATED:20250324T200004Z
LAST-MODIFIED:20250324T200004Z
UID:10001922-1835172000-1835175600@myslcc.org
SUMMARY:Men’s Meeting
DESCRIPTION:
URL:https://myslcc.org/event/mens-meeting/2028-02-26/
END:VEVENT
BEGIN:VEVENT
DTSTART;TZID=UTC:20280325T100000
DTEND;TZID=UTC:20280325T110000
DTSTAMP:20260422T092244
CREATED:20250324T200004Z
LAST-MODIFIED:20250324T200004Z
UID:10001923-1837591200-1837594800@myslcc.org
SUMMARY:Men’s Meeting
DESCRIPTION:
URL:https://myslcc.org/event/mens-meeting/2028-03-25/
END:VEVENT
BEGIN:VEVENT
DTSTART;TZID=UTC:20280422T100000
DTEND;TZID=UTC:20280422T110000
DTSTAMP:20260422T092245
CREATED:20250324T200004Z
LAST-MODIFIED:20250324T200004Z
UID:10001924-1840010400-1840014000@myslcc.org
SUMMARY:Men’s Meeting
DESCRIPTION:
URL:https://myslcc.org/event/mens-meeting/2028-04-22/
END:VEVENT
BEGIN:VEVENT
DTSTART;TZID=UTC:20280527T100000
DTEND;TZID=UTC:20280527T110000
DTSTAMP:20260422T092245
CREATED:20250324T200004Z
LAST-MODIFIED:20250324T200004Z
UID:10001925-1843034400-1843038000@myslcc.org
SUMMARY:Men’s Meeting
DESCRIPTION:
URL:https://myslcc.org/event/mens-meeting/2028-05-27/
END:VEVENT
BEGIN:VEVENT
DTSTART;TZID=UTC:20280624T100000
DTEND;TZID=UTC:20280624T110000
DTSTAMP:20260422T092245
CREATED:20250324T200004Z
LAST-MODIFIED:20250324T200004Z
UID:10001926-1845453600-1845457200@myslcc.org
SUMMARY:Men’s Meeting
DESCRIPTION:
URL:https://myslcc.org/event/mens-meeting/2028-06-24/
END:VEVENT
BEGIN:VEVENT
DTSTART;TZID=UTC:20280722T100000
DTEND;TZID=UTC:20280722T110000
DTSTAMP:20260422T092245
CREATED:20250324T200004Z
LAST-MODIFIED:20250324T200004Z
UID:10001927-1847872800-1847876400@myslcc.org
SUMMARY:Men’s Meeting
DESCRIPTION:
URL:https://myslcc.org/event/mens-meeting/2028-07-22/
END:VEVENT
BEGIN:VEVENT
DTSTART;TZID=UTC:20280826T100000
DTEND;TZID=UTC:20280826T110000
DTSTAMP:20260422T092245
CREATED:20250324T200004Z
LAST-MODIFIED:20250324T200004Z
UID:10001928-1850896800-1850900400@myslcc.org
SUMMARY:Men’s Meeting
DESCRIPTION:
URL:https://myslcc.org/event/mens-meeting/2028-08-26/
END:VEVENT
BEGIN:VEVENT
DTSTART;TZID=UTC:20280923T100000
DTEND;TZID=UTC:20280923T110000
DTSTAMP:20260422T092245
CREATED:20250324T200004Z
LAST-MODIFIED:20250324T200004Z
UID:10001929-1853316000-1853319600@myslcc.org
SUMMARY:Men’s Meeting
DESCRIPTION:
URL:https://myslcc.org/event/mens-meeting/2028-09-23/
END:VEVENT
END:VCALENDAR