BEGIN:VCALENDAR
VERSION:2.0
PRODID:-//Spirit Lake Community Church - ECPv6.11.0.1//NONSGML v1.0//EN
CALSCALE:GREGORIAN
METHOD:PUBLISH
X-WR-CALNAME:Spirit Lake Community Church
X-ORIGINAL-URL:https://myslcc.org
X-WR-CALDESC:Events for Spirit Lake Community Church
REFRESH-INTERVAL;VALUE=DURATION:PT1H
X-Robots-Tag:noindex
X-PUBLISHED-TTL:PT1H
BEGIN:VTIMEZONE
TZID:UTC
BEGIN:STANDARD
TZOFFSETFROM:+0000
TZOFFSETTO:+0000
TZNAME:UTC
DTSTART:20260101T000000
END:STANDARD
END:VTIMEZONE
BEGIN:VEVENT
DTSTART;TZID=UTC:20260426T091500
DTEND;TZID=UTC:20260426T095000
DTSTAMP:20260422T080604
CREATED:20250324T195157Z
LAST-MODIFIED:20250324T195157Z
UID:10000057-1777194900-1777197000@myslcc.org
SUMMARY:Coffee and Snacks Fellowship
DESCRIPTION:
URL:https://myslcc.org/event/coffee-and-snacks-fellowship/2026-04-26/
END:VEVENT
BEGIN:VEVENT
DTSTART;TZID=UTC:20260503T091500
DTEND;TZID=UTC:20260503T095000
DTSTAMP:20260422T080604
CREATED:20250324T195157Z
LAST-MODIFIED:20250324T195157Z
UID:10000058-1777799700-1777801800@myslcc.org
SUMMARY:Coffee and Snacks Fellowship
DESCRIPTION:
URL:https://myslcc.org/event/coffee-and-snacks-fellowship/2026-05-03/
END:VEVENT
BEGIN:VEVENT
DTSTART;TZID=UTC:20260510T091500
DTEND;TZID=UTC:20260510T095000
DTSTAMP:20260422T080604
CREATED:20250324T195157Z
LAST-MODIFIED:20250324T195157Z
UID:10000059-1778404500-1778406600@myslcc.org
SUMMARY:Coffee and Snacks Fellowship
DESCRIPTION:
URL:https://myslcc.org/event/coffee-and-snacks-fellowship/2026-05-10/
END:VEVENT
BEGIN:VEVENT
DTSTART;TZID=UTC:20260517T091500
DTEND;TZID=UTC:20260517T095000
DTSTAMP:20260422T080604
CREATED:20250324T195157Z
LAST-MODIFIED:20250324T195157Z
UID:10000060-1779009300-1779011400@myslcc.org
SUMMARY:Coffee and Snacks Fellowship
DESCRIPTION:
URL:https://myslcc.org/event/coffee-and-snacks-fellowship/2026-05-17/
END:VEVENT
BEGIN:VEVENT
DTSTART;TZID=UTC:20260524T091500
DTEND;TZID=UTC:20260524T095000
DTSTAMP:20260422T080604
CREATED:20250324T195157Z
LAST-MODIFIED:20250324T195157Z
UID:10000061-1779614100-1779616200@myslcc.org
SUMMARY:Coffee and Snacks Fellowship
DESCRIPTION:
URL:https://myslcc.org/event/coffee-and-snacks-fellowship/2026-05-24/
END:VEVENT
BEGIN:VEVENT
DTSTART;TZID=UTC:20260531T091500
DTEND;TZID=UTC:20260531T095000
DTSTAMP:20260422T080604
CREATED:20250324T195157Z
LAST-MODIFIED:20250324T195157Z
UID:10000062-1780218900-1780221000@myslcc.org
SUMMARY:Coffee and Snacks Fellowship
DESCRIPTION:
URL:https://myslcc.org/event/coffee-and-snacks-fellowship/2026-05-31/
END:VEVENT
BEGIN:VEVENT
DTSTART;TZID=UTC:20260607T091500
DTEND;TZID=UTC:20260607T095000
DTSTAMP:20260422T080604
CREATED:20250324T195157Z
LAST-MODIFIED:20250324T195157Z
UID:10000063-1780823700-1780825800@myslcc.org
SUMMARY:Coffee and Snacks Fellowship
DESCRIPTION:
URL:https://myslcc.org/event/coffee-and-snacks-fellowship/2026-06-07/
END:VEVENT
BEGIN:VEVENT
DTSTART;TZID=UTC:20260614T091500
DTEND;TZID=UTC:20260614T095000
DTSTAMP:20260422T080604
CREATED:20250324T195157Z
LAST-MODIFIED:20250324T195157Z
UID:10000064-1781428500-1781430600@myslcc.org
SUMMARY:Coffee and Snacks Fellowship
DESCRIPTION:
URL:https://myslcc.org/event/coffee-and-snacks-fellowship/2026-06-14/
END:VEVENT
BEGIN:VEVENT
DTSTART;TZID=UTC:20260621T091500
DTEND;TZID=UTC:20260621T095000
DTSTAMP:20260422T080604
CREATED:20250324T195157Z
LAST-MODIFIED:20250324T195157Z
UID:10000065-1782033300-1782035400@myslcc.org
SUMMARY:Coffee and Snacks Fellowship
DESCRIPTION:
URL:https://myslcc.org/event/coffee-and-snacks-fellowship/2026-06-21/
END:VEVENT
BEGIN:VEVENT
DTSTART;TZID=UTC:20260628T091500
DTEND;TZID=UTC:20260628T095000
DTSTAMP:20260422T080604
CREATED:20250324T195157Z
LAST-MODIFIED:20250324T195157Z
UID:10000066-1782638100-1782640200@myslcc.org
SUMMARY:Coffee and Snacks Fellowship
DESCRIPTION:
URL:https://myslcc.org/event/coffee-and-snacks-fellowship/2026-06-28/
END:VEVENT
BEGIN:VEVENT
DTSTART;TZID=UTC:20260705T091500
DTEND;TZID=UTC:20260705T095000
DTSTAMP:20260422T080604
CREATED:20250324T195157Z
LAST-MODIFIED:20250324T195157Z
UID:10000067-1783242900-1783245000@myslcc.org
SUMMARY:Coffee and Snacks Fellowship
DESCRIPTION:
URL:https://myslcc.org/event/coffee-and-snacks-fellowship/2026-07-05/
END:VEVENT
BEGIN:VEVENT
DTSTART;TZID=UTC:20260712T091500
DTEND;TZID=UTC:20260712T095000
DTSTAMP:20260422T080604
CREATED:20250324T195157Z
LAST-MODIFIED:20250324T195157Z
UID:10000068-1783847700-1783849800@myslcc.org
SUMMARY:Coffee and Snacks Fellowship
DESCRIPTION:
URL:https://myslcc.org/event/coffee-and-snacks-fellowship/2026-07-12/
END:VEVENT
BEGIN:VEVENT
DTSTART;TZID=UTC:20260719T091500
DTEND;TZID=UTC:20260719T095000
DTSTAMP:20260422T080604
CREATED:20250324T195157Z
LAST-MODIFIED:20250324T195157Z
UID:10000069-1784452500-1784454600@myslcc.org
SUMMARY:Coffee and Snacks Fellowship
DESCRIPTION:
URL:https://myslcc.org/event/coffee-and-snacks-fellowship/2026-07-19/
END:VEVENT
BEGIN:VEVENT
DTSTART;TZID=UTC:20260726T091500
DTEND;TZID=UTC:20260726T095000
DTSTAMP:20260422T080604
CREATED:20250324T195157Z
LAST-MODIFIED:20250324T195157Z
UID:10000070-1785057300-1785059400@myslcc.org
SUMMARY:Coffee and Snacks Fellowship
DESCRIPTION:
URL:https://myslcc.org/event/coffee-and-snacks-fellowship/2026-07-26/
END:VEVENT
BEGIN:VEVENT
DTSTART;TZID=UTC:20260802T091500
DTEND;TZID=UTC:20260802T095000
DTSTAMP:20260422T080604
CREATED:20250324T195157Z
LAST-MODIFIED:20250324T195157Z
UID:10000071-1785662100-1785664200@myslcc.org
SUMMARY:Coffee and Snacks Fellowship
DESCRIPTION:
URL:https://myslcc.org/event/coffee-and-snacks-fellowship/2026-08-02/
END:VEVENT
BEGIN:VEVENT
DTSTART;TZID=UTC:20260809T091500
DTEND;TZID=UTC:20260809T095000
DTSTAMP:20260422T080604
CREATED:20250324T195157Z
LAST-MODIFIED:20250324T195157Z
UID:10000072-1786266900-1786269000@myslcc.org
SUMMARY:Coffee and Snacks Fellowship
DESCRIPTION:
URL:https://myslcc.org/event/coffee-and-snacks-fellowship/2026-08-09/
END:VEVENT
BEGIN:VEVENT
DTSTART;TZID=UTC:20260816T091500
DTEND;TZID=UTC:20260816T095000
DTSTAMP:20260422T080604
CREATED:20250324T195157Z
LAST-MODIFIED:20250324T195157Z
UID:10000073-1786871700-1786873800@myslcc.org
SUMMARY:Coffee and Snacks Fellowship
DESCRIPTION:
URL:https://myslcc.org/event/coffee-and-snacks-fellowship/2026-08-16/
END:VEVENT
BEGIN:VEVENT
DTSTART;TZID=UTC:20260823T091500
DTEND;TZID=UTC:20260823T095000
DTSTAMP:20260422T080604
CREATED:20250324T195157Z
LAST-MODIFIED:20250324T195157Z
UID:10000074-1787476500-1787478600@myslcc.org
SUMMARY:Coffee and Snacks Fellowship
DESCRIPTION:
URL:https://myslcc.org/event/coffee-and-snacks-fellowship/2026-08-23/
END:VEVENT
BEGIN:VEVENT
DTSTART;TZID=UTC:20260830T091500
DTEND;TZID=UTC:20260830T095000
DTSTAMP:20260422T080604
CREATED:20250324T195157Z
LAST-MODIFIED:20250324T195157Z
UID:10000075-1788081300-1788083400@myslcc.org
SUMMARY:Coffee and Snacks Fellowship
DESCRIPTION:
URL:https://myslcc.org/event/coffee-and-snacks-fellowship/2026-08-30/
END:VEVENT
BEGIN:VEVENT
DTSTART;TZID=UTC:20260906T091500
DTEND;TZID=UTC:20260906T095000
DTSTAMP:20260422T080604
CREATED:20250324T195157Z
LAST-MODIFIED:20250324T195157Z
UID:10000076-1788686100-1788688200@myslcc.org
SUMMARY:Coffee and Snacks Fellowship
DESCRIPTION:
URL:https://myslcc.org/event/coffee-and-snacks-fellowship/2026-09-06/
END:VEVENT
BEGIN:VEVENT
DTSTART;TZID=UTC:20260913T091500
DTEND;TZID=UTC:20260913T095000
DTSTAMP:20260422T080604
CREATED:20250324T195157Z
LAST-MODIFIED:20250324T195157Z
UID:10000077-1789290900-1789293000@myslcc.org
SUMMARY:Coffee and Snacks Fellowship
DESCRIPTION:
URL:https://myslcc.org/event/coffee-and-snacks-fellowship/2026-09-13/
END:VEVENT
BEGIN:VEVENT
DTSTART;TZID=UTC:20260920T091500
DTEND;TZID=UTC:20260920T095000
DTSTAMP:20260422T080604
CREATED:20250324T195157Z
LAST-MODIFIED:20250324T195157Z
UID:10000078-1789895700-1789897800@myslcc.org
SUMMARY:Coffee and Snacks Fellowship
DESCRIPTION:
URL:https://myslcc.org/event/coffee-and-snacks-fellowship/2026-09-20/
END:VEVENT
BEGIN:VEVENT
DTSTART;TZID=UTC:20260927T091500
DTEND;TZID=UTC:20260927T095000
DTSTAMP:20260422T080604
CREATED:20250324T195157Z
LAST-MODIFIED:20250324T195157Z
UID:10000079-1790500500-1790502600@myslcc.org
SUMMARY:Coffee and Snacks Fellowship
DESCRIPTION:
URL:https://myslcc.org/event/coffee-and-snacks-fellowship/2026-09-27/
END:VEVENT
BEGIN:VEVENT
DTSTART;TZID=UTC:20261004T091500
DTEND;TZID=UTC:20261004T095000
DTSTAMP:20260422T080604
CREATED:20250324T195157Z
LAST-MODIFIED:20250324T195157Z
UID:10000080-1791105300-1791107400@myslcc.org
SUMMARY:Coffee and Snacks Fellowship
DESCRIPTION:
URL:https://myslcc.org/event/coffee-and-snacks-fellowship/2026-10-04/
END:VEVENT
BEGIN:VEVENT
DTSTART;TZID=UTC:20261011T091500
DTEND;TZID=UTC:20261011T095000
DTSTAMP:20260422T080604
CREATED:20250324T195157Z
LAST-MODIFIED:20250324T195157Z
UID:10000081-1791710100-1791712200@myslcc.org
SUMMARY:Coffee and Snacks Fellowship
DESCRIPTION:
URL:https://myslcc.org/event/coffee-and-snacks-fellowship/2026-10-11/
END:VEVENT
BEGIN:VEVENT
DTSTART;TZID=UTC:20261018T091500
DTEND;TZID=UTC:20261018T095000
DTSTAMP:20260422T080604
CREATED:20250324T195157Z
LAST-MODIFIED:20250324T195157Z
UID:10000082-1792314900-1792317000@myslcc.org
SUMMARY:Coffee and Snacks Fellowship
DESCRIPTION:
URL:https://myslcc.org/event/coffee-and-snacks-fellowship/2026-10-18/
END:VEVENT
BEGIN:VEVENT
DTSTART;TZID=UTC:20261025T091500
DTEND;TZID=UTC:20261025T095000
DTSTAMP:20260422T080604
CREATED:20250324T195157Z
LAST-MODIFIED:20250324T195157Z
UID:10000083-1792919700-1792921800@myslcc.org
SUMMARY:Coffee and Snacks Fellowship
DESCRIPTION:
URL:https://myslcc.org/event/coffee-and-snacks-fellowship/2026-10-25/
END:VEVENT
BEGIN:VEVENT
DTSTART;TZID=UTC:20261101T091500
DTEND;TZID=UTC:20261101T095000
DTSTAMP:20260422T080604
CREATED:20250324T195157Z
LAST-MODIFIED:20250324T195157Z
UID:10000084-1793524500-1793526600@myslcc.org
SUMMARY:Coffee and Snacks Fellowship
DESCRIPTION:
URL:https://myslcc.org/event/coffee-and-snacks-fellowship/2026-11-01/
END:VEVENT
BEGIN:VEVENT
DTSTART;TZID=UTC:20261108T091500
DTEND;TZID=UTC:20261108T095000
DTSTAMP:20260422T080604
CREATED:20250324T195157Z
LAST-MODIFIED:20250324T195157Z
UID:10000085-1794129300-1794131400@myslcc.org
SUMMARY:Coffee and Snacks Fellowship
DESCRIPTION:
URL:https://myslcc.org/event/coffee-and-snacks-fellowship/2026-11-08/
END:VEVENT
BEGIN:VEVENT
DTSTART;TZID=UTC:20261115T091500
DTEND;TZID=UTC:20261115T095000
DTSTAMP:20260422T080604
CREATED:20250324T195157Z
LAST-MODIFIED:20250324T195157Z
UID:10000086-1794734100-1794736200@myslcc.org
SUMMARY:Coffee and Snacks Fellowship
DESCRIPTION:
URL:https://myslcc.org/event/coffee-and-snacks-fellowship/2026-11-15/
END:VEVENT
END:VCALENDAR